Package: SCBN Version: 1.27.0 Command: chmod a+r SCBN -R && F:\biocbuild\bbs-3.22-bioc\R\bin\R.exe CMD build --keep-empty-dirs --no-resave-data SCBN StartedAt: 2025-08-14 23:01:15 -0400 (Thu, 14 Aug 2025) EndedAt: 2025-08-14 23:02:33 -0400 (Thu, 14 Aug 2025) EllapsedTime: 77.9 seconds RetCode: 0 Status: OK PackageFile: SCBN_1.27.0.tar.gz PackageFileSize: 516.1 KiB