Package: SCBN Version: 1.27.0 Command: rm -rf SCBN.buildbin-libdir && mkdir SCBN.buildbin-libdir && F:\biocbuild\bbs-3.22-bioc\R\bin\R.exe CMD INSTALL --build --library=SCBN.buildbin-libdir SCBN_1.27.0.tar.gz StartedAt: 2025-08-15 11:14:20 -0400 (Fri, 15 Aug 2025) EndedAt: 2025-08-15 11:14:26 -0400 (Fri, 15 Aug 2025) EllapsedTime: 6.0 seconds RetCode: 0 Status: OK PackageFile: SCBN_1.27.0.zip PackageFileSize: 653.9 KiB