Package: SCArray Version: 1.17.0 Command: /home/biocbuild/R/R/bin/R CMD check --install=check:SCArray.install-out.txt --library=/home/biocbuild/R/R/site-library --no-vignettes --timings SCArray_1.17.0.tar.gz StartedAt: 2025-10-07 11:46:11 -0000 (Tue, 07 Oct 2025) EndedAt: 2025-10-07 11:50:20 -0000 (Tue, 07 Oct 2025) EllapsedTime: 249.3 seconds RetCode: 0 Status: OK CheckDir: SCArray.Rcheck Warnings: 0