Package: SCArray Version: 1.17.0 Command: /home/biocbuild/R/R/bin/R CMD build --keep-empty-dirs --no-resave-data SCArray StartedAt: 2025-10-07 02:36:06 -0000 (Tue, 07 Oct 2025) EndedAt: 2025-10-07 02:37:41 -0000 (Tue, 07 Oct 2025) EllapsedTime: 95.1 seconds RetCode: 0 Status: OK PackageFile: SCArray_1.17.0.tar.gz PackageFileSize: 1.28 MiB