Package: SCANVIS Version: 1.23.0 Command: F:\biocbuild\bbs-3.22-bioc\R\bin\R.exe CMD INSTALL SCANVIS StartedAt: 2025-07-24 16:34:55 -0400 (Thu, 24 Jul 2025) EndedAt: 2025-07-24 16:35:33 -0400 (Thu, 24 Jul 2025) EllapsedTime: 38.1 seconds RetCode: 0 Status: OK