Package: SCANVIS Version: 1.23.0 Command: chmod a+r SCANVIS -R && F:\biocbuild\bbs-3.22-bioc\R\bin\R.exe CMD build --keep-empty-dirs --no-resave-data SCANVIS StartedAt: 2025-07-24 22:03:44 -0400 (Thu, 24 Jul 2025) EndedAt: 2025-07-24 22:04:42 -0400 (Thu, 24 Jul 2025) EllapsedTime: 58.2 seconds RetCode: 0 Status: OK PackageFile: SCANVIS_1.23.0.tar.gz PackageFileSize: 470.6 KiB