Package: SCANVIS Version: 1.23.0 Command: rm -rf SCANVIS.buildbin-libdir && mkdir SCANVIS.buildbin-libdir && F:\biocbuild\bbs-3.22-bioc\R\bin\R.exe CMD INSTALL --build --library=SCANVIS.buildbin-libdir SCANVIS_1.23.0.tar.gz StartedAt: 2025-07-25 10:13:20 -0400 (Fri, 25 Jul 2025) EndedAt: 2025-07-25 10:13:56 -0400 (Fri, 25 Jul 2025) EllapsedTime: 36.2 seconds RetCode: 0 Status: OK PackageFile: SCANVIS_1.23.0.zip PackageFileSize: 431.1 KiB