Package: SCANVIS Version: 1.23.0 Command: /home/biocbuild/bbs-3.22-bioc/R/bin/R CMD INSTALL SCANVIS StartedAt: 2025-07-15 15:26:50 -0400 (Tue, 15 Jul 2025) EndedAt: 2025-07-15 15:27:20 -0400 (Tue, 15 Jul 2025) EllapsedTime: 30.0 seconds RetCode: 0 Status: OK