Package: SCANVIS Version: 1.23.0 Command: /home/biocbuild/bbs-3.22-bioc/R/bin/R CMD check --install=check:SCANVIS.install-out.txt --library=/home/biocbuild/bbs-3.22-bioc/R/site-library --timings SCANVIS_1.23.0.tar.gz StartedAt: 2025-07-10 03:09:21 -0400 (Thu, 10 Jul 2025) EndedAt: 2025-07-10 03:13:12 -0400 (Thu, 10 Jul 2025) EllapsedTime: 230.6 seconds RetCode: 0 Status: OK CheckDir: SCANVIS.Rcheck Warnings: 0