Package: SCANVIS Version: 1.23.0 Command: /Library/Frameworks/R.framework/Resources/bin/R CMD INSTALL SCANVIS StartedAt: 2025-07-13 15:30:29 -0400 (Sun, 13 Jul 2025) EndedAt: 2025-07-13 15:31:11 -0400 (Sun, 13 Jul 2025) EllapsedTime: 41.8 seconds RetCode: 0 Status: OK