Package: SCANVIS Version: 1.23.0 Command: /Library/Frameworks/R.framework/Resources/bin/R CMD build --keep-empty-dirs --no-resave-data SCANVIS StartedAt: 2025-07-22 17:27:21 -0400 (Tue, 22 Jul 2025) EndedAt: 2025-07-22 17:27:48 -0400 (Tue, 22 Jul 2025) EllapsedTime: 26.3 seconds RetCode: 0 Status: OK PackageFile: SCANVIS_1.23.0.tar.gz PackageFileSize: 469.6 KiB