Package: SBMLR Version: 2.5.0 Command: F:\biocbuild\bbs-3.22-bioc\R\bin\R.exe CMD INSTALL SBMLR StartedAt: 2025-07-20 15:18:52 -0400 (Sun, 20 Jul 2025) EndedAt: 2025-07-20 15:19:01 -0400 (Sun, 20 Jul 2025) EllapsedTime: 9.4 seconds RetCode: 0 Status: OK