Package: SARC Version: 1.7.0 Command: /Library/Frameworks/R.framework/Resources/bin/R CMD INSTALL SARC StartedAt: 2025-07-01 15:31:04 -0400 (Tue, 01 Jul 2025) EndedAt: 2025-07-01 15:31:20 -0400 (Tue, 01 Jul 2025) EllapsedTime: 16.0 seconds RetCode: 0 Status: OK