Package: SARC Version: 1.7.0 Command: /Library/Frameworks/R.framework/Resources/bin/R CMD check --install=check:SARC.install-out.txt --library=/Library/Frameworks/R.framework/Resources/library --no-vignettes --timings SARC_1.7.0.tar.gz StartedAt: 2025-07-01 21:11:44 -0400 (Tue, 01 Jul 2025) EndedAt: 2025-07-01 21:14:48 -0400 (Tue, 01 Jul 2025) EllapsedTime: 184.4 seconds RetCode: 0 Status: OK CheckDir: SARC.Rcheck Warnings: 0