Package: SARC Version: 1.7.0 Command: /Library/Frameworks/R.framework/Resources/bin/R CMD build --keep-empty-dirs --no-resave-data SARC StartedAt: 2025-07-01 17:26:08 -0400 (Tue, 01 Jul 2025) EndedAt: 2025-07-01 17:27:15 -0400 (Tue, 01 Jul 2025) EllapsedTime: 67.8 seconds RetCode: 0 Status: OK PackageFile: SARC_1.7.0.tar.gz PackageFileSize: 3.51 MiB