Package: SANTA Version: 2.45.0 Command: /home/biocbuild/R/R/bin/R CMD check --install=check:SANTA.install-out.txt --library=/home/biocbuild/R/R/site-library --no-vignettes --timings SANTA_2.45.0.tar.gz StartedAt: 2025-10-10 13:00:42 -0000 (Fri, 10 Oct 2025) EndedAt: 2025-10-10 13:02:01 -0000 (Fri, 10 Oct 2025) EllapsedTime: 79.1 seconds RetCode: 0 Status: OK CheckDir: SANTA.Rcheck Warnings: 0