Package: SANTA Version: 2.45.0 Command: /home/biocbuild/R/R/bin/R CMD build --keep-empty-dirs --no-resave-data SANTA StartedAt: 2025-10-10 03:46:07 -0000 (Fri, 10 Oct 2025) EndedAt: 2025-10-10 03:46:23 -0000 (Fri, 10 Oct 2025) EllapsedTime: 16.0 seconds RetCode: 0 Status: OK PackageFile: SANTA_2.45.0.tar.gz PackageFileSize: 4.373 MiB