Package: SANTA Version: 2.45.0 Command: /home/biocbuild/bbs-3.22-bioc/R/bin/R CMD INSTALL SANTA StartedAt: 2025-10-05 15:05:06 -0400 (Sun, 05 Oct 2025) EndedAt: 2025-10-05 15:05:25 -0400 (Sun, 05 Oct 2025) EllapsedTime: 18.9 seconds RetCode: 0 Status: OK