Package: SANTA Version: 2.45.0 Command: /Library/Frameworks/R.framework/Resources/bin/R CMD check --install=check:SANTA.install-out.txt --library=/Library/Frameworks/R.framework/Resources/library --no-vignettes --timings SANTA_2.45.0.tar.gz StartedAt: 2025-10-07 00:28:20 -0400 (Tue, 07 Oct 2025) EndedAt: 2025-10-07 00:29:36 -0400 (Tue, 07 Oct 2025) EllapsedTime: 75.4 seconds RetCode: 0 Status: OK CheckDir: SANTA.Rcheck Warnings: 0