Package: SANTA Version: 2.45.0 Command: /Library/Frameworks/R.framework/Resources/bin/R CMD build --keep-empty-dirs --no-resave-data SANTA StartedAt: 2025-10-06 18:51:58 -0400 (Mon, 06 Oct 2025) EndedAt: 2025-10-06 18:52:14 -0400 (Mon, 06 Oct 2025) EllapsedTime: 16.0 seconds RetCode: 0 Status: OK PackageFile: SANTA_2.45.0.tar.gz PackageFileSize: 4.372 MiB