Package: SAIGEgds Version: 2.9.0 Command: /home/biocbuild/R/R/bin/R CMD check --install=check:SAIGEgds.install-out.txt --library=/home/biocbuild/R/R/site-library --no-vignettes --timings SAIGEgds_2.9.0.tar.gz StartedAt: 2025-07-15 11:25:00 -0000 (Tue, 15 Jul 2025) EndedAt: 2025-07-15 11:27:06 -0000 (Tue, 15 Jul 2025) EllapsedTime: 126.1 seconds RetCode: 1 Status: ERROR CheckDir: SAIGEgds.Rcheck Warnings: NA