Package: SAIGEgds Version: 2.9.2 Command: /Library/Frameworks/R.framework/Resources/bin/R CMD INSTALL SAIGEgds StartedAt: 2025-10-06 15:14:51 -0400 (Mon, 06 Oct 2025) EndedAt: 2025-10-06 15:15:10 -0400 (Mon, 06 Oct 2025) EllapsedTime: 19.2 seconds RetCode: 0 Status: OK