Package: SAIGEgds Version: 2.9.2 Command: /Library/Frameworks/R.framework/Resources/bin/R CMD check --install=check:SAIGEgds.install-out.txt --library=/Library/Frameworks/R.framework/Resources/library --no-vignettes --timings SAIGEgds_2.9.2.tar.gz StartedAt: 2025-10-07 21:34:34 -0400 (Tue, 07 Oct 2025) EndedAt: 2025-10-07 21:35:30 -0400 (Tue, 07 Oct 2025) EllapsedTime: 55.7 seconds RetCode: 0 Status: OK CheckDir: SAIGEgds.Rcheck Warnings: 0