Package: S4Vectors Version: 0.47.0 Command: /home/biocbuild/R/R/bin/R CMD INSTALL S4Vectors StartedAt: 2025-07-10 21:17:11 -0000 (Thu, 10 Jul 2025) EndedAt: 2025-07-10 21:17:46 -0000 (Thu, 10 Jul 2025) EllapsedTime: 34.6 seconds RetCode: 0 Status: OK