Package: S4Vectors Version: 0.47.0 Command: rm -rf S4Vectors.buildbin-libdir && mkdir S4Vectors.buildbin-libdir && F:\biocbuild\bbs-3.22-bioc\R\bin\R.exe CMD INSTALL --build --library=S4Vectors.buildbin-libdir S4Vectors_0.47.0.tar.gz StartedAt: 2025-07-21 09:57:48 -0400 (Mon, 21 Jul 2025) EndedAt: 2025-07-21 10:02:21 -0400 (Mon, 21 Jul 2025) EllapsedTime: 273.0 seconds RetCode: 0 Status: OK PackageFile: S4Vectors_0.47.0.zip PackageFileSize: 2.285 MiB