Package: S4Vectors Version: 0.47.4 Command: /home/biocbuild/bbs-3.22-bioc/R/bin/R CMD INSTALL S4Vectors StartedAt: 2025-10-10 15:24:05 -0400 (Fri, 10 Oct 2025) EndedAt: 2025-10-10 15:24:29 -0400 (Fri, 10 Oct 2025) EllapsedTime: 23.7 seconds RetCode: 0 Status: OK