Package: S4Vectors Version: 0.47.4 Command: /home/biocbuild/bbs-3.22-bioc/R/bin/R CMD build --keep-empty-dirs --no-resave-data --md5 S4Vectors StartedAt: 2025-10-10 19:57:12 -0400 (Fri, 10 Oct 2025) EndedAt: 2025-10-10 19:58:11 -0400 (Fri, 10 Oct 2025) EllapsedTime: 58.1 seconds RetCode: 0 Status: OK PackageFile: S4Vectors_0.47.4.tar.gz PackageFileSize: 824.2 KiB