Package: S4Vectors Version: 0.47.0 Command: /Library/Frameworks/R.framework/Resources/bin/R CMD INSTALL S4Vectors StartedAt: 2025-07-07 15:06:11 -0400 (Mon, 07 Jul 2025) EndedAt: 2025-07-07 15:06:21 -0400 (Mon, 07 Jul 2025) EllapsedTime: 9.6 seconds RetCode: 0 Status: OK