Package: S4Vectors Version: 0.47.0 Command: /Library/Frameworks/R.framework/Resources/bin/R CMD build --keep-empty-dirs --no-resave-data S4Vectors StartedAt: 2025-07-09 17:34:29 -0400 (Wed, 09 Jul 2025) EndedAt: 2025-07-09 17:34:52 -0400 (Wed, 09 Jul 2025) EllapsedTime: 23.3 seconds RetCode: 0 Status: OK PackageFile: S4Vectors_0.47.0.tar.gz PackageFileSize: 1.001 MiB