Package: S4Arrays Version: 1.9.1 Command: /home/biocbuild/R/R/bin/R CMD INSTALL S4Arrays StartedAt: 2025-06-26 20:25:59 -0000 (Thu, 26 Jun 2025) EndedAt: 2025-06-26 20:26:24 -0000 (Thu, 26 Jun 2025) EllapsedTime: 24.3 seconds RetCode: 0 Status: OK