Package: S4Arrays Version: 1.9.1 Command: rm -rf S4Arrays.buildbin-libdir && mkdir S4Arrays.buildbin-libdir && F:\biocbuild\bbs-3.22-bioc\R\bin\R.exe CMD INSTALL --build --library=S4Arrays.buildbin-libdir S4Arrays_1.9.1.tar.gz StartedAt: 2025-07-21 09:57:45 -0400 (Mon, 21 Jul 2025) EndedAt: 2025-07-21 09:59:23 -0400 (Mon, 21 Jul 2025) EllapsedTime: 97.3 seconds RetCode: 0 Status: OK PackageFile: S4Arrays_1.9.1.zip PackageFileSize: 1.16 MiB