Package: Rtreemix Version: 1.69.1 Command: F:\biocbuild\bbs-3.22-bioc\R\bin\R.exe CMD INSTALL Rtreemix StartedAt: 2025-04-08 15:51:43 -0400 (Tue, 08 Apr 2025) EndedAt: 2025-04-08 15:54:59 -0400 (Tue, 08 Apr 2025) EllapsedTime: 195.3 seconds RetCode: 0 Status: OK