Package: Rtpca Version: 1.19.1 Command: /home/biocbuild/bbs-3.22-bioc/R/bin/R CMD build --keep-empty-dirs --no-resave-data --md5 Rtpca StartedAt: 2025-10-05 19:49:27 -0400 (Sun, 05 Oct 2025) EndedAt: 2025-10-05 19:49:51 -0400 (Sun, 05 Oct 2025) EllapsedTime: 24.0 seconds RetCode: 0 Status: OK PackageFile: Rtpca_1.19.1.tar.gz PackageFileSize: 2.184 MiB