Package: Rsubread Version: 2.23.4 Command: /Library/Frameworks/R.framework/Resources/bin/R CMD INSTALL Rsubread StartedAt: 2025-10-07 15:03:04 -0400 (Tue, 07 Oct 2025) EndedAt: 2025-10-07 15:03:18 -0400 (Tue, 07 Oct 2025) EllapsedTime: 13.9 seconds RetCode: 0 Status: OK