Package: Rsubread Version: 2.23.4 Command: /Library/Frameworks/R.framework/Resources/bin/R CMD check --install=check:Rsubread.install-out.txt --library=/Library/Frameworks/R.framework/Resources/library --no-vignettes --timings Rsubread_2.23.4.tar.gz StartedAt: 2025-10-06 21:31:11 -0400 (Mon, 06 Oct 2025) EndedAt: 2025-10-06 21:36:04 -0400 (Mon, 06 Oct 2025) EllapsedTime: 292.8 seconds RetCode: 0 Status: WARNINGS CheckDir: Rsubread.Rcheck Warnings: 2