Package: Rsamtools Version: 2.25.1 Command: F:\biocbuild\bbs-3.22-bioc\R\bin\R.exe CMD INSTALL Rsamtools StartedAt: 2025-07-21 15:47:39 -0400 (Mon, 21 Jul 2025) EndedAt: 2025-07-21 15:50:18 -0400 (Mon, 21 Jul 2025) EllapsedTime: 158.8 seconds RetCode: 0 Status: OK