Package: Rsamtools Version: 2.25.1 Command: chmod a+r Rsamtools -R && F:\biocbuild\bbs-3.22-bioc\R\bin\R.exe CMD build --keep-empty-dirs --no-resave-data Rsamtools StartedAt: 2025-07-21 21:48:20 -0400 (Mon, 21 Jul 2025) EndedAt: 2025-07-21 21:51:22 -0400 (Mon, 21 Jul 2025) EllapsedTime: 181.6 seconds RetCode: 0 Status: OK PackageFile: Rsamtools_2.25.1.tar.gz PackageFileSize: 2.783 MiB