Package: Rsamtools Version: 2.25.1 Command: rm -rf Rsamtools.buildbin-libdir && mkdir Rsamtools.buildbin-libdir && F:\biocbuild\bbs-3.22-bioc\R\bin\R.exe CMD INSTALL --build --library=Rsamtools.buildbin-libdir Rsamtools_2.25.1.tar.gz StartedAt: 2025-07-22 10:00:49 -0400 (Tue, 22 Jul 2025) EndedAt: 2025-07-22 10:03:42 -0400 (Tue, 22 Jul 2025) EllapsedTime: 173.7 seconds RetCode: 0 Status: OK PackageFile: Rsamtools_2.25.1.zip PackageFileSize: 8.615 MiB