Package: Rqc Version: 1.43.0 Command: /home/biocbuild/R/R/bin/R CMD INSTALL Rqc StartedAt: 2025-07-03 21:23:34 -0000 (Thu, 03 Jul 2025) EndedAt: 2025-07-03 21:24:47 -0000 (Thu, 03 Jul 2025) EllapsedTime: 72.6 seconds RetCode: 0 Status: OK