Package: Rqc Version: 1.43.0 Command: /home/biocbuild/R/R/bin/R CMD check --install=check:Rqc.install-out.txt --library=/home/biocbuild/R/R/site-library --no-vignettes --timings Rqc_1.43.0.tar.gz StartedAt: 2025-07-04 10:50:12 -0000 (Fri, 04 Jul 2025) EndedAt: 2025-07-04 10:58:17 -0000 (Fri, 04 Jul 2025) EllapsedTime: 484.1 seconds RetCode: 0 Status: OK CheckDir: Rqc.Rcheck Warnings: 0