Package: Rqc Version: 1.43.0 Command: /home/biocbuild/R/R/bin/R CMD build --keep-empty-dirs --no-resave-data Rqc StartedAt: 2025-07-04 02:28:34 -0000 (Fri, 04 Jul 2025) EndedAt: 2025-07-04 02:30:31 -0000 (Fri, 04 Jul 2025) EllapsedTime: 117.1 seconds RetCode: 0 Status: OK PackageFile: Rqc_1.43.0.tar.gz PackageFileSize: 813.2 KiB