Package: Rqc Version: 1.43.0 Command: F:\biocbuild\bbs-3.22-bioc\R\bin\R.exe CMD check --no-multiarch --install=check:Rqc.install-out.txt --library=F:\biocbuild\bbs-3.22-bioc\R\library --no-vignettes --timings Rqc_1.43.0.tar.gz StartedAt: 2025-07-12 05:54:33 -0400 (Sat, 12 Jul 2025) EndedAt: 2025-07-12 06:02:19 -0400 (Sat, 12 Jul 2025) EllapsedTime: 466.0 seconds RetCode: 0 Status: OK CheckDir: Rqc.Rcheck Warnings: 0