Package: Rqc Version: 1.43.0 Command: chmod a+r Rqc -R && F:\biocbuild\bbs-3.22-bioc\R\bin\R.exe CMD build --keep-empty-dirs --no-resave-data Rqc StartedAt: 2025-07-11 21:41:54 -0400 (Fri, 11 Jul 2025) EndedAt: 2025-07-11 21:44:05 -0400 (Fri, 11 Jul 2025) EllapsedTime: 131.5 seconds RetCode: 0 Status: OK PackageFile: Rqc_1.43.0.tar.gz PackageFileSize: 628 KiB