Package: RolDE Version: 1.13.0 Command: /home/biocbuild/R/R/bin/R CMD build --keep-empty-dirs --no-resave-data RolDE StartedAt: 2025-07-18 02:36:16 -0000 (Fri, 18 Jul 2025) EndedAt: 2025-07-18 02:37:00 -0000 (Fri, 18 Jul 2025) EllapsedTime: 44.1 seconds RetCode: 0 Status: OK PackageFile: RolDE_1.13.0.tar.gz PackageFileSize: 1.244 MiB