Package: RolDE Version: 1.13.0 Command: F:\biocbuild\bbs-3.22-bioc\R\bin\R.exe CMD check --no-multiarch --install=check:RolDE.install-out.txt --library=F:\biocbuild\bbs-3.22-bioc\R\library --no-vignettes --timings RolDE_1.13.0.tar.gz StartedAt: 2025-07-12 05:51:57 -0400 (Sat, 12 Jul 2025) EndedAt: 2025-07-12 05:57:13 -0400 (Sat, 12 Jul 2025) EllapsedTime: 315.7 seconds RetCode: 0 Status: OK CheckDir: RolDE.Rcheck Warnings: 0