Package: RolDE Version: 1.13.0 Maintainer: Medical Bioinformatics Centre MaintainerEmail: mbc at utu.fi git_url: https://git.bioconductor.org/packages/RolDE git_branch: devel git_last_commit: 27c4839 git_last_commit_date: 2025-04-15 12:49:31 -0400 (Tue, 15 Apr 2025)