Package: Rnits Version: 1.43.0 Command: /home/biocbuild/R/R/bin/R CMD build --keep-empty-dirs --no-resave-data Rnits StartedAt: 2025-07-22 02:22:56 -0000 (Tue, 22 Jul 2025) EndedAt: 2025-07-22 02:24:44 -0000 (Tue, 22 Jul 2025) EllapsedTime: 108.1 seconds RetCode: 0 Status: OK PackageFile: Rnits_1.43.0.tar.gz PackageFileSize: 640.1 KiB