Package: Rnits Version: 1.43.0 Command: F:\biocbuild\bbs-3.22-bioc\R\bin\R.exe CMD INSTALL Rnits StartedAt: 2025-07-24 15:47:50 -0400 (Thu, 24 Jul 2025) EndedAt: 2025-07-24 15:48:18 -0400 (Thu, 24 Jul 2025) EllapsedTime: 27.7 seconds RetCode: 0 Status: OK