Package: Rnits Version: 1.43.0 Command: chmod a+r Rnits -R && F:\biocbuild\bbs-3.22-bioc\R\bin\R.exe CMD build --keep-empty-dirs --no-resave-data Rnits StartedAt: 2025-07-24 21:54:51 -0400 (Thu, 24 Jul 2025) EndedAt: 2025-07-24 21:57:04 -0400 (Thu, 24 Jul 2025) EllapsedTime: 133.4 seconds RetCode: 0 Status: OK PackageFile: Rnits_1.43.0.tar.gz PackageFileSize: 654.8 KiB