Package: Rnits Version: 1.43.0 Command: /Library/Frameworks/R.framework/Resources/bin/R CMD INSTALL Rnits StartedAt: 2025-07-16 15:13:43 -0400 (Wed, 16 Jul 2025) EndedAt: 2025-07-16 15:13:59 -0400 (Wed, 16 Jul 2025) EllapsedTime: 16.0 seconds RetCode: 0 Status: OK